BEGIN:VCALENDAR
VERSION:2.0
PRODID:-//https://fourriversrealtors.com//NONSGML kigkonsult.se iCalcreator 2.41.71//
CALSCALE:GREGORIAN
METHOD:PUBLISH
UID:37303664-3830-4937-b563-613538373361
X-WR-CALNAME:JCal Pro Calendar
X-WR-CALDESC:Your online events calendar
X-WR-TIMEZONE:America/Chicago
BEGIN:VTIMEZONE
TZID:America/Chicago
TZUNTIL:20271107T070000Z
BEGIN:STANDARD
TZNAME:CST
DTSTART:20251102T020000
TZOFFSETFROM:-0500
TZOFFSETTO:-0600
RDATE:20261101T020000
END:STANDARD
BEGIN:DAYLIGHT
TZNAME:CDT
DTSTART:20260308T020000
TZOFFSETFROM:-0600
TZOFFSETTO:-0500
RDATE:20270314T020000
END:DAYLIGHT
END:VTIMEZONE
BEGIN:VEVENT
UID:20240729T120000UTC-78788nVvu1@https://fourriversrealtors.com/
DTSTAMP:20260420T051510Z
CATEGORIES:Association Events
DTSTART;TZID=America/Chicago:20240821T120000
DTEND;TZID=America/Chicago:20240821T140000
SUMMARY:NextGen Presents: Mid-Year Market Update - RESCHEDULED
URL:https://fourriversrealtors.com/about-us/classes-events/20-association-e
 vents/9061-postponed-nextgen-presents-mid-year-market-update-rescheduled
END:VEVENT
END:VCALENDAR
