BEGIN:VCALENDAR
VERSION:2.0
PRODID:-//https://fourriversrealtors.com//NONSGML kigkonsult.se iCalcreator 2.41.71//
CALSCALE:GREGORIAN
METHOD:PUBLISH
UID:37643532-6536-4534-a266-646632306239
X-WR-CALNAME:JCal Pro Calendar
X-WR-CALDESC:Your online events calendar
X-WR-TIMEZONE:America/Chicago
BEGIN:VTIMEZONE
TZID:America/Chicago
TZUNTIL:20271107T070000Z
BEGIN:STANDARD
TZNAME:CST
DTSTART:20251102T020000
TZOFFSETFROM:-0500
TZOFFSETTO:-0600
RDATE:20261101T020000
END:STANDARD
BEGIN:DAYLIGHT
TZNAME:CDT
DTSTART:20260308T020000
TZOFFSETFROM:-0600
TZOFFSETTO:-0500
RDATE:20270314T020000
END:DAYLIGHT
END:VTIMEZONE
BEGIN:VEVENT
UID:20240926T090000UTC-4824f9L9XI@https://fourriversrealtors.com/
DTSTAMP:20260421T034836Z
CATEGORIES:Association Education Classes
DESCRIPTION:<ul>\n<li><span style='font-size: 18pt\;'><strong>15&nbsp\;CE H
 R</strong></span></li>\n<li><span style='font-size: 18pt\;'><strong>2&nbsp
 \;Days of class -&nbsp\;Wed\, 9/25 &amp\;&nbsp\;Thur 9/26</strong></span><
 /li>\n<li><span style='font-size: 18pt\;'><strong>9/25-8:30am-5:00pm</stro
 ng></span></li>\n<li><span style='font-size: 18pt\;'><strong>9/26-9:00am-5
 :00pm&nbsp\;</strong></span></li>\n<li><span style='font-size: 18pt\;'><st
 rong>Cost - $150 Members/$160 Non-Members</strong></span></li>\n<li><span 
 style='font-size: 18pt\;'><strong>Course No.&nbsp\;43378\,48535\,43475\,44
 346\,45042\,45022</strong></span></li>\n<li><span style='font-size: 18pt\;
 '><strong>Provider-Texas REALTORS® #1</strong></span></li>\n<li><span styl
 e='font-size: 18pt\;'><strong>Instructor-&nbsp\;Candy Cooke</strong></span
 ></li>\n<li><span style='font-size: 18pt\;'><strong>Virtual&nbsp\;class (o
 ff site instructor via&nbsp\;Zoom)</strong></span></li>\n<li><span style='
 font-size: 18pt\;'><strong>Last day for discount is Sept 18\, 2024. After 
 Sept 18\, 2024\, add $15 to registration fee</strong></span></li>\n<li><sp
 an style='font-size: 18pt\;'>If you need to cancel your class registration
  please email me before Sept 23\, 2024</span></li>\n<li><span style='font-
 size: 18pt\;'><strong>No refund&nbsp\;or Transfers on or after Sept 23\, 2
 024</strong></span></li>\n<li><span style='font-size: 18pt\;'><strong>To a
 ssure you receive class information\, registration ends Sept 24\, 2024 at 
 5:00 pm</strong></span></li>\n<li><span style='font-size: 18pt\;'><strong>
 If you have questions with registration email&nbsp\;<span id='cloak4d32355
 575e7b2f86b70c8cc3a489a4e'><span id='cloak3b872f82eb7f0e43c110cdcae818ace6
 '><span id='cloak2e10ee88c6368d552d2caa6eced2453c'><span id='cloake0e32cbc
 2b135adf1f27af152baa186d'><span id='cloakcf40084c46268eac252b7e975a0685d0'
 ><span id='cloak757aca4bf8774580e97afb5138e6a9cf'><span id='cloak3e3dc9110
 743deb5e922608777582483'><span id='cloake74a0283317a734dddf4f99c7f713d92'>
 <span id='cloak3f8633daff119def5ae0db418ec141b5'><span id='cloakb31e9bf9e2
 98cfdb84cda011a1144534'><span id='cloak6f9251e3bbc576756b397816c2b181e4'><
 joomla-hidden-mail is-link='1' is-email='1' first='bGFkYXdu' last='Zm91cnJ
 pdmVyc3JlYWx0b3JzLmNvbQ==' text='bGFkYXduQGZvdXJyaXZlcnNyZWFsdG9ycy5jb20='
  base=''><a href='mailto:ladawn@fourriversrealtors.com' base=''></a><jooml
 a-hidden-mail  is-link='1' is-email='1' first='bGFkYXdu' last='Zm91cnJpdmV
 yc3JlYWx0b3JzLmNvbQ==' text='bGFkYXduQGZvdXJyaXZlcnNyZWFsdG9ycy5jb20=' bas
 e='' >This email address is being protected from spambots. You need JavaSc
 ript enabled to view it.</joomla-hidden-mail></joomla-hidden-mail></span><
 /span></span></span></span></span></span></span></span></span></span>&nbsp
 \;</strong></span></li>\n</ul>\n<p><span style='font-size: 18pt\;'><strong
 >Course Description:&nbsp\;</strong></span></p>\n<p><span style='font-size
 : 18pt\;'><strong>The Texas Risk Reduction Specialist certification signif
 ies that you are adept at identifying and mitigating potential liabilities
  for your brokerage and clients. The certification will help you safely na
 vigate transactions in your markets and areas of expertise.</strong></span
 ></p>\n<p><span style='font-size: 18pt\; background-color: #ffff00\;'><str
 ong><a href='https://www.texasrealestate.com/members/education/designation
 s-and-certifications/trrs-texas-risk-reduction-specialist/' rel='alternate
 ' style='background-color: #ffff00\;'>For More Information Regarding the C
 ertification</a></strong></span></p>\n<p><span style='font-size: 18pt\;'><
 em><strong>The certification will include the following classes:</strong><
 /em></span></p>\n<p><span style='font-size: 18pt\;'>3 CE HR Intro to Risk 
 Reduction-&nbsp\;#43378</span></p>\n<p><span style='font-size: 18pt\;'>Thi
 s course will train real estate agents in various aspects of business risk
  reduction. Agents will learn to recognize and embrace the value of furthe
 r education related to risk reduction and how to utilize resources for bus
 iness related risk avoidance. Also learn to identify and mitigate liabilit
 y through effective risk reduction policies and practices.</span></p>\n<p>
 <span style='font-size: 18pt\;'>2 CE HR&nbsp\;Learn to Be the Source of th
 e Source-&nbsp\;#48535</span></p>\n<p><span style='font-size: 18pt\;'>Acce
 ss to the Internet appears to be the ultimate source of information. But n
 ot everything on the internet is true. Today’s licensees need to know wher
 e to go for reliable sources of information and not just use crowdsourcing
 . By compiling a list of resources\, learning how to search and providing 
 accurate information to clients and customers will be a benefit to all par
 ties. The course will cover both government sources and REALTOR® resources
 .</span></p>\n<p><span style='font-size: 18pt\;'>3 CE HR&nbsp\;&nbsp\;Defi
 ning &amp\; Understanding Competency-&nbsp\;#43475</span></p>\n<p><span st
 yle='font-size: 18pt\;'>Agents and brokers are required to be competent in
  performing their duties as agents. This competency is tied directly to th
 eir fiduciary duties. Both the Texas Real Estate Commission (TREC) and the
  National Association of REALTORS Code of Ethics state that agents must be
  competent. TREC has gone even farther and required license holders to be 
 competent in the geographic area and in the type of property. This class w
 ill go over the definition of competency. Additionally\, the students will
  learn about the requirements set forth for brokers too versee their agent
 s and verify that the agents are competent. Finally\, students will learn 
 the resources for them to become competent. By gaining this knowledge\, th
 e agents and brokers will be able to better serve consumers.</span></p>\n<
 p><span style='font-size: 18pt\;'>3 CE HR&nbsp\;Whose Job is it Anyway?-&n
 bsp\;#43475</span></p>\n<p><span style='font-size: 18pt\;'>The real estate
  transaction is very complicated with many different professionals involve
 d. Each of those professionals have a different job. When license holders 
 are working with customers and clients\, it is important that these consum
 ers understand that each of these roles are different and important to the
  transactions. To make a transaction proceed smoothly and reduce risk to a
 ll parties\, these activities and who the person is that performs these ac
 tivities must be clearly defined and explained. Resources will be provided
  for use by both the consumers and the license holders.</span></p>\n<p><sp
 an style='font-size: 18pt\;'>2 CE HR&nbsp\; Stay in Your Lane-&nbsp\;#4504
 2</span></p>\n<p><span style='font-size: 18pt\;'>This course by Candace Co
 oke will help agents and brokers their obligation to represent their clien
 ts to the best of their ability. TREC provides guidelines for the license 
 holders to make sure they are competent. However\, often an agent or broke
 r may step outside of their competency to take care of a favorite client. 
 This course will discuss how to make sure you stay in your lane and repres
 ent your clients appropriately. Additionally\, the students will learn abo
 ut current disciplinary cases and the consequences from swerving outside o
 f the appropriate area.</span></p>\n<p><span style='font-size: 18pt\;'>2 C
 E HR&nbsp\;Timelines\, Why Dates and Deadlines are Important-&nbsp\;#45022
 </span></p>\n<p><span style='font-size: 18pt\;'>This course by Candy Cooke
  will help agents and brokers understand what happens when the parties sig
 n the offer and insert the effective date. It seems that a clear schedule 
 has been set. Then the “What Ifs” start. Each part of the contract introdu
 ces new areas that could create issues for all parties involved. Utilizing
  the promulgated One to Four Family Residential Contract\, students will b
 ecome familiar with the different paragraphs that may require some problem
  solving to help their clients purchase the property.</span></p>
DTSTART;TZID=America/Chicago:20240926T090000
DTEND;TZID=America/Chicago:20240926T170000
SUMMARY:15 CE HR Class: TRRS: Texas Risk Reduction Specialist Certification
  (Virtual)
URL:https://fourriversrealtors.com/about-us/classes-events/22-association-c
 lasses/9037-15-ce-hr-class-trrs-texas-risk-reduction-specialist-certificat
 ion-virtual
X-ALT-DESC;FMTTYPE=TEXT/HTML:<ul>\n<li><span style='font-size: 18pt\;'><str
 ong>15&nbsp\;CE HR</strong></span></li>\n<li><span style='font-size: 18pt\
 ;'><strong>2&nbsp\;Days of class -&nbsp\;Wed\, 9/25 &amp\;&nbsp\;Thur 9/26
 </strong></span></li>\n<li><span style='font-size: 18pt\;'><strong>9/25-8:
 30am-5:00pm</strong></span></li>\n<li><span style='font-size: 18pt\;'><str
 ong>9/26-9:00am-5:00pm&nbsp\;</strong></span></li>\n<li><span style='font-
 size: 18pt\;'><strong>Cost - $150 Members/$160 Non-Members</strong></span>
 </li>\n<li><span style='font-size: 18pt\;'><strong>Course No.&nbsp\;43378\
 ,48535\,43475\,44346\,45042\,45022</strong></span></li>\n<li><span style='
 font-size: 18pt\;'><strong>Provider-Texas REALTORS® #1</strong></span></li
 >\n<li><span style='font-size: 18pt\;'><strong>Instructor-&nbsp\;Candy Coo
 ke</strong></span></li>\n<li><span style='font-size: 18pt\;'><strong>Virtu
 al&nbsp\;class (off site instructor via&nbsp\;Zoom)</strong></span></li>\n
 <li><span style='font-size: 18pt\;'><strong>Last day for discount is Sept 
 18\, 2024. After Sept 18\, 2024\, add $15 to registration fee</strong></sp
 an></li>\n<li><span style='font-size: 18pt\;'>If you need to cancel your c
 lass registration please email me before Sept 23\, 2024</span></li>\n<li><
 span style='font-size: 18pt\;'><strong>No refund&nbsp\;or Transfers on or 
 after Sept 23\, 2024</strong></span></li>\n<li><span style='font-size: 18p
 t\;'><strong>To assure you receive class information\, registration ends S
 ept 24\, 2024 at 5:00 pm</strong></span></li>\n<li><span style='font-size:
  18pt\;'><strong>If you have questions with registration email&nbsp\;<span
  id='cloak4d32355575e7b2f86b70c8cc3a489a4e'><span id='cloak3b872f82eb7f0e4
 3c110cdcae818ace6'><span id='cloak2e10ee88c6368d552d2caa6eced2453c'><span 
 id='cloake0e32cbc2b135adf1f27af152baa186d'><span id='cloakcf40084c46268eac
 252b7e975a0685d0'><span id='cloak757aca4bf8774580e97afb5138e6a9cf'><span i
 d='cloak3e3dc9110743deb5e922608777582483'><span id='cloake74a0283317a734dd
 df4f99c7f713d92'><span id='cloak3f8633daff119def5ae0db418ec141b5'><span id
 ='cloakb31e9bf9e298cfdb84cda011a1144534'><span id='cloak6f9251e3bbc576756b
 397816c2b181e4'><joomla-hidden-mail is-link='1' is-email='1' first='bGFkYX
 du' last='Zm91cnJpdmVyc3JlYWx0b3JzLmNvbQ==' text='bGFkYXduQGZvdXJyaXZlcnNy
 ZWFsdG9ycy5jb20=' base=''><a href='mailto:ladawn@fourriversrealtors.com' b
 ase=''></a><joomla-hidden-mail  is-link='1' is-email='1' first='bGFkYXdu' 
 last='Zm91cnJpdmVyc3JlYWx0b3JzLmNvbQ==' text='bGFkYXduQGZvdXJyaXZlcnNyZWFs
 dG9ycy5jb20=' base='' >This email address is being protected from spambots
 . You need JavaScript enabled to view it.</joomla-hidden-mail></joomla-hid
 den-mail></span></span></span></span></span></span></span></span></span></
 span></span>&nbsp\;</strong></span></li>\n</ul>\n<p><span style='font-size
 : 18pt\;'><strong>Course Description:&nbsp\;</strong></span></p>\n<p><span
  style='font-size: 18pt\;'><strong>The Texas Risk Reduction Specialist cer
 tification signifies that you are adept at identifying and mitigating pote
 ntial liabilities for your brokerage and clients. The certification will h
 elp you safely navigate transactions in your markets and areas of expertis
 e.</strong></span></p>\n<p><span style='font-size: 18pt\; background-color
 : #ffff00\;'><strong><a href='https://www.texasrealestate.com/members/educ
 ation/designations-and-certifications/trrs-texas-risk-reduction-specialist
 /' rel='alternate' style='background-color: #ffff00\;'>For More Informatio
 n Regarding the Certification</a></strong></span></p>\n<p><span style='fon
 t-size: 18pt\;'><em><strong>The certification will include the following c
 lasses:</strong></em></span></p>\n<p><span style='font-size: 18pt\;'>3 CE 
 HR Intro to Risk Reduction-&nbsp\;#43378</span></p>\n<p><span style='font-
 size: 18pt\;'>This course will train real estate agents in various aspects
  of business risk reduction. Agents will learn to recognize and embrace th
 e value of further education related to risk reduction and how to utilize 
 resources for business related risk avoidance. Also learn to identify and 
 mitigate liability through effective risk reduction policies and practices
 .</span></p>\n<p><span style='font-size: 18pt\;'>2 CE HR&nbsp\;Learn to Be
  the Source of the Source-&nbsp\;#48535</span></p>\n<p><span style='font-s
 ize: 18pt\;'>Access to the Internet appears to be the ultimate source of i
 nformation. But not everything on the internet is true. Today’s licensees 
 need to know where to go for reliable sources of information and not just 
 use crowdsourcing. By compiling a list of resources\, learning how to sear
 ch and providing accurate information to clients and customers will be a b
 enefit to all parties. The course will cover both government sources and R
 EALTOR® resources.</span></p>\n<p><span style='font-size: 18pt\;'>3 CE HR&
 nbsp\;&nbsp\;Defining &amp\; Understanding Competency-&nbsp\;#43475</span>
 </p>\n<p><span style='font-size: 18pt\;'>Agents and brokers are required t
 o be competent in performing their duties as agents. This competency is ti
 ed directly to their fiduciary duties. Both the Texas Real Estate Commissi
 on (TREC) and the National Association of REALTORS Code of Ethics state th
 at agents must be competent. TREC has gone even farther and required licen
 se holders to be competent in the geographic area and in the type of prope
 rty. This class will go over the definition of competency. Additionally\, 
 the students will learn about the requirements set forth for brokers too v
 ersee their agents and verify that the agents are competent. Finally\, stu
 dents will learn the resources for them to become competent. By gaining th
 is knowledge\, the agents and brokers will be able to better serve consume
 rs.</span></p>\n<p><span style='font-size: 18pt\;'>3 CE HR&nbsp\;Whose Job
  is it Anyway?-&nbsp\;#43475</span></p>\n<p><span style='font-size: 18pt\;
 '>The real estate transaction is very complicated with many different prof
 essionals involved. Each of those professionals have a different job. When
  license holders are working with customers and clients\, it is important 
 that these consumers understand that each of these roles are different and
  important to the transactions. To make a transaction proceed smoothly and
  reduce risk to all parties\, these activities and who the person is that 
 performs these activities must be clearly defined and explained. Resources
  will be provided for use by both the consumers and the license holders.</
 span></p>\n<p><span style='font-size: 18pt\;'>2 CE HR&nbsp\; Stay in Your 
 Lane-&nbsp\;#45042</span></p>\n<p><span style='font-size: 18pt\;'>This cou
 rse by Candace Cooke will help agents and brokers their obligation to repr
 esent their clients to the best of their ability. TREC provides guidelines
  for the license holders to make sure they are competent. However\, often 
 an agent or broker may step outside of their competency to take care of a 
 favorite client. This course will discuss how to make sure you stay in you
 r lane and represent your clients appropriately. Additionally\, the studen
 ts will learn about current disciplinary cases and the consequences from s
 werving outside of the appropriate area.</span></p>\n<p><span style='font-
 size: 18pt\;'>2 CE HR&nbsp\;Timelines\, Why Dates and Deadlines are Import
 ant-&nbsp\;#45022</span></p>\n<p><span style='font-size: 18pt\;'>This cour
 se by Candy Cooke will help agents and brokers understand what happens whe
 n the parties sign the offer and insert the effective date. It seems that 
 a clear schedule has been set. Then the “What Ifs” start. Each part of the
  contract introduces new areas that could create issues for all parties in
 volved. Utilizing the promulgated One to Four Family Residential Contract\
 , students will become familiar with the different paragraphs that may req
 uire some problem solving to help their clients purchase the property.</sp
 an></p>
END:VEVENT
END:VCALENDAR
