BEGIN:VCALENDAR
VERSION:2.0
PRODID:-//https://fourriversrealtors.com//NONSGML kigkonsult.se iCalcreator 2.41.71//
CALSCALE:GREGORIAN
METHOD:PUBLISH
UID:65356563-3039-4839-a233-393165336132
X-WR-CALNAME:JCal Pro Calendar
X-WR-CALDESC:Your online events calendar
X-WR-TIMEZONE:America/Chicago
BEGIN:VTIMEZONE
TZID:America/Chicago
TZUNTIL:20271107T070000Z
BEGIN:STANDARD
TZNAME:CST
DTSTART:20251102T020000
TZOFFSETFROM:-0500
TZOFFSETTO:-0600
RDATE:20261101T020000
END:STANDARD
BEGIN:DAYLIGHT
TZNAME:CDT
DTSTART:20260308T020000
TZOFFSETFROM:-0600
TZOFFSETTO:-0500
RDATE:20270314T020000
END:DAYLIGHT
END:VTIMEZONE
BEGIN:VEVENT
UID:20200417T080000CDT-6876RsDEie@http://txmliws.rapams.com/
DTSTAMP:20260426T024509Z
CATEGORIES:Association Events
DTSTART;TZID=America/Chicago:20200522T080000
DTEND;TZID=America/Chicago:20200522T133000
SUMMARY:New Member Orientation
URL:https://fourriversrealtors.com/hidden-calendar-dashboard/20-association
 -events/3768-new-member-orientation
END:VEVENT
END:VCALENDAR
