BEGIN:VCALENDAR
VERSION:2.0
PRODID:-//https://fourriversrealtors.com//NONSGML kigkonsult.se iCalcreator 2.41.71//
CALSCALE:GREGORIAN
METHOD:PUBLISH
UID:37353537-3833-4832-b039-363130306635
X-WR-CALNAME:JCal Pro Calendar
X-WR-CALDESC:Your online events calendar
X-WR-TIMEZONE:America/Chicago
BEGIN:VTIMEZONE
TZID:America/Chicago
TZUNTIL:20271107T070000Z
BEGIN:STANDARD
TZNAME:CST
DTSTART:20251102T020000
TZOFFSETFROM:-0500
TZOFFSETTO:-0600
RDATE:20261101T020000
END:STANDARD
BEGIN:DAYLIGHT
TZNAME:CDT
DTSTART:20260308T020000
TZOFFSETFROM:-0600
TZOFFSETTO:-0500
RDATE:20270314T020000
END:DAYLIGHT
END:VTIMEZONE
BEGIN:VEVENT
UID:20240117T110000UTC-4428DaPG7a@https://fourriversrealtors.com/
DTSTAMP:20260424T022349Z
CATEGORIES:FRAR Committee Meetings
DTSTART;TZID=America/Chicago:20240517T110000
DTEND;TZID=America/Chicago:20240517T120000
SUMMARY:NextGen Committee Meeting (CANCELLED)
URL:https://fourriversrealtors.com/hidden-calendar-dashboard/21-committee-m
 eeting/8784-nextgen-committee-meeting
END:VEVENT
END:VCALENDAR
