BEGIN:VCALENDAR
VERSION:2.0
PRODID:-//https://fourriversrealtors.com//NONSGML kigkonsult.se iCalcreator 2.41.71//
CALSCALE:GREGORIAN
METHOD:PUBLISH
UID:37303736-3139-4034-b430-323063386531
X-WR-CALNAME:JCal Pro Calendar
X-WR-CALDESC:Your online events calendar
X-WR-TIMEZONE:America/Chicago
BEGIN:VTIMEZONE
TZID:America/Chicago
TZUNTIL:20271107T070000Z
BEGIN:STANDARD
TZNAME:CST
DTSTART:20251102T020000
TZOFFSETFROM:-0500
TZOFFSETTO:-0600
RDATE:20261101T020000
END:STANDARD
BEGIN:DAYLIGHT
TZNAME:CDT
DTSTART:20260308T020000
TZOFFSETFROM:-0600
TZOFFSETTO:-0500
RDATE:20270314T020000
END:DAYLIGHT
END:VTIMEZONE
BEGIN:VEVENT
UID:20240201T130000UTC-5977OBUalw@https://fourriversrealtors.com/
DTSTAMP:20260423T181333Z
CATEGORIES:Association Education Classes
DESCRIPTION:<ul>\n<li><span style='font-size: 18pt\;'><strong>4&nbsp\;CE HR
 &nbsp\;</strong></span></li>\n<li><span style='font-size: 18pt\;'><strong>
 1:00 pm- 5:00 pm</strong></span></li>\n<li><span style='font-size: 18pt\;'
 ><strong>Cost $0 for Members</strong></span></li>\n<li><span style='font-s
 ize: 18pt\;'><strong><span style='background-color: #ffff00\;'>'No Shows' 
 will be billed $30</span>&nbsp\;</strong></span></li>\n<li><span style='fo
 nt-size: 18pt\;'><strong>Course No.&nbsp\;47601</strong></span></li>\n<li>
 <span style='font-size: 18pt\;'><strong>Provider-Texas REALTORS® #1</stron
 g></span></li>\n<li><span style='font-size: 18pt\;'><strong><strong>Virtua
 l Class (off site instructor via Zoom)</strong></strong></span></li>\n<li>
 <span style='font-size: 18pt\;'>Instructor- Todd Bingham</span></li>\n<li>
 <span style='font-size: 18pt\;'><strong>To assure you receive class inform
 ation\, registration ends Jan 31\, 2024 at 5:00 pm</strong></span></li>\n<
 li><span style='font-size: 18pt\;'><strong>If you have questions with regi
 stration email&nbsp\;<span id='cloake5486994787ee1cfa9c5d6f3511ef68e'><spa
 n id='cloakcbb3cc0becebe2a1b19a55f53e7eea91'><span id='cloak7024fa7f2c1d70
 b04a4b53fe0ce55025'><span id='cloak93cceb61cf15111c672cf2763fc04a7a'><span
  id='cloakbfb107afb1489d1d56b3c6e6fe8b4358'><span id='cloak255633ce7acb272
 34509dffca1d44fe9'><span id='cloak952d3c11d1426ee3b15bac363bcaf0e8'><span 
 id='cloak04e945159f67f3b3c1f2b12d2624e53b'><span id='cloak694f75d63347927e
 2c035fd22312e117'><span id='cloakebd6fff0dbc447bea395e2e05c73b4e9'><span i
 d='cloakdfbc3d26097016fb810cf186814d8d87'><span id='cloak3057594eaf7a25dbc
 8f5d4733ea0f275'><span id='cloak2f6493f0dad75987917915117741407c'><span id
 ='cloak94548e3de87df2010221a80e8610dd46'><span id='cloak3da87f92a40a7a6710
 164681870c5127'><span id='cloakafa05c03b63540af9a1fa442fcbe5096'><span id=
 'cloak244e2f0a1eeb06eba5672570867a6dec'><span id='cloakb847d333c9273773c57
 e8fe35f5d0a0f'><span id='cloakb8a1d8dee43917cf3e4a96354502a266'><span id='
 cloak2116c13a9c76639e15512aa1627c8795'><span id='cloak5b28561ba8ac7f917bec
 d48b8d8bd848'><span id='cloak8700072dacf82e3ceec11037bf7a7982'><span id='c
 loak52c38af1ad7b4da8f45d63d314dcca75'><span id='cloak0e34110fc75f6367119f8
 059a6279c36'><joomla-hidden-mail is-link='1' is-email='1' first='bGFkYXdu'
  last='Zm91cnJpdmVyc3JlYWx0b3JzLmNvbQ==' text='bGFkYXduQGZvdXJyaXZlcnNyZWF
 sdG9ycy5jb20=' base=''><a href='mailto:ladawn@fourriversrealtors.com' base
 =''></a><joomla-hidden-mail  is-link='1' is-email='1' first='bGFkYXdu' las
 t='Zm91cnJpdmVyc3JlYWx0b3JzLmNvbQ==' text='bGFkYXduQGZvdXJyaXZlcnNyZWFsdG9
 ycy5jb20=' base='' >This email address is being protected from spambots. Y
 ou need JavaScript enabled to view it.</joomla-hidden-mail></joomla-hidden
 -mail></span></span></span></span></span></span></span></span></span></spa
 n></span></span></span></span></span></span></span></span></span></span></
 span></span></span></span>&nbsp\;</strong></span></li>\n</ul>\n<p><span st
 yle='font-size: 18pt\;'><strong>&nbsp\;Course Description:</strong></span>
 </p>\n<p><span style='font-size: 18pt\;'><strong>Did you know that as a li
 cense holder you have TREC ethics standards for engaging in the real estat
 e business? Perhaps you belong to a real estate trade association that has
  a code of ethics as a requirement for engaging in the business. Texas law
  and the various trade association code of ethics are similar yet not iden
 tical. This class is about your license requirements not\, trade associa­t
 ion expectations. The course covers the requirements Texas law places upon
  all license holders regard­ing ethics and conduct when facilitating a rea
 l estate transaction.</strong></span></p>
DTSTART;TZID=America/Chicago:20240201T130000
DTEND;TZID=America/Chicago:20240201T170000
SUMMARY:4 CE HR Class: (Free) TREC Legal Update 2 (Virtual)
URL:https://fourriversrealtors.com/hidden-calendar-dashboard/22-association
 -classes/8148-4-ce-hr-class-free-trec-legal-update-2-virtual
X-ALT-DESC;FMTTYPE=TEXT/HTML:<ul>\n<li><span style='font-size: 18pt\;'><str
 ong>4&nbsp\;CE HR&nbsp\;</strong></span></li>\n<li><span style='font-size:
  18pt\;'><strong>1:00 pm- 5:00 pm</strong></span></li>\n<li><span style='f
 ont-size: 18pt\;'><strong>Cost $0 for Members</strong></span></li>\n<li><s
 pan style='font-size: 18pt\;'><strong><span style='background-color: #ffff
 00\;'>'No Shows' will be billed $30</span>&nbsp\;</strong></span></li>\n<l
 i><span style='font-size: 18pt\;'><strong>Course No.&nbsp\;47601</strong><
 /span></li>\n<li><span style='font-size: 18pt\;'><strong>Provider-Texas RE
 ALTORS® #1</strong></span></li>\n<li><span style='font-size: 18pt\;'><stro
 ng><strong>Virtual Class (off site instructor via Zoom)</strong></strong><
 /span></li>\n<li><span style='font-size: 18pt\;'>Instructor- Todd Bingham<
 /span></li>\n<li><span style='font-size: 18pt\;'><strong>To assure you rec
 eive class information\, registration ends Jan 31\, 2024 at 5:00 pm</stron
 g></span></li>\n<li><span style='font-size: 18pt\;'><strong>If you have qu
 estions with registration email&nbsp\;<span id='cloake5486994787ee1cfa9c5d
 6f3511ef68e'><span id='cloakcbb3cc0becebe2a1b19a55f53e7eea91'><span id='cl
 oak7024fa7f2c1d70b04a4b53fe0ce55025'><span id='cloak93cceb61cf15111c672cf2
 763fc04a7a'><span id='cloakbfb107afb1489d1d56b3c6e6fe8b4358'><span id='clo
 ak255633ce7acb27234509dffca1d44fe9'><span id='cloak952d3c11d1426ee3b15bac3
 63bcaf0e8'><span id='cloak04e945159f67f3b3c1f2b12d2624e53b'><span id='cloa
 k694f75d63347927e2c035fd22312e117'><span id='cloakebd6fff0dbc447bea395e2e0
 5c73b4e9'><span id='cloakdfbc3d26097016fb810cf186814d8d87'><span id='cloak
 3057594eaf7a25dbc8f5d4733ea0f275'><span id='cloak2f6493f0dad75987917915117
 741407c'><span id='cloak94548e3de87df2010221a80e8610dd46'><span id='cloak3
 da87f92a40a7a6710164681870c5127'><span id='cloakafa05c03b63540af9a1fa442fc
 be5096'><span id='cloak244e2f0a1eeb06eba5672570867a6dec'><span id='cloakb8
 47d333c9273773c57e8fe35f5d0a0f'><span id='cloakb8a1d8dee43917cf3e4a9635450
 2a266'><span id='cloak2116c13a9c76639e15512aa1627c8795'><span id='cloak5b2
 8561ba8ac7f917becd48b8d8bd848'><span id='cloak8700072dacf82e3ceec11037bf7a
 7982'><span id='cloak52c38af1ad7b4da8f45d63d314dcca75'><span id='cloak0e34
 110fc75f6367119f8059a6279c36'><joomla-hidden-mail is-link='1' is-email='1'
  first='bGFkYXdu' last='Zm91cnJpdmVyc3JlYWx0b3JzLmNvbQ==' text='bGFkYXduQG
 ZvdXJyaXZlcnNyZWFsdG9ycy5jb20=' base=''><a href='mailto:ladawn@fourriversr
 ealtors.com' base=''></a><joomla-hidden-mail  is-link='1' is-email='1' fir
 st='bGFkYXdu' last='Zm91cnJpdmVyc3JlYWx0b3JzLmNvbQ==' text='bGFkYXduQGZvdX
 JyaXZlcnNyZWFsdG9ycy5jb20=' base='' >This email address is being protected
  from spambots. You need JavaScript enabled to view it.</joomla-hidden-mai
 l></joomla-hidden-mail></span></span></span></span></span></span></span></
 span></span></span></span></span></span></span></span></span></span></span
 ></span></span></span></span></span></span>&nbsp\;</strong></span></li>\n<
 /ul>\n<p><span style='font-size: 18pt\;'><strong>&nbsp\;Course Description
 :</strong></span></p>\n<p><span style='font-size: 18pt\;'><strong>Did you 
 know that as a license holder you have TREC ethics standards for engaging 
 in the real estate business? Perhaps you belong to a real estate trade ass
 ociation that has a code of ethics as a requirement for engaging in the bu
 siness. Texas law and the various trade association code of ethics are sim
 ilar yet not identical. This class is about your license requirements not\
 , trade associa­tion expectations. The course covers the requirements Texa
 s law places upon all license holders regard­ing ethics and conduct when f
 acilitating a real estate transaction.</strong></span></p>
END:VEVENT
END:VCALENDAR
