BEGIN:VCALENDAR
VERSION:2.0
PRODID:-//https://fourriversrealtors.com//NONSGML kigkonsult.se iCalcreator 2.41.71//
CALSCALE:GREGORIAN
METHOD:PUBLISH
UID:34363131-6230-4564-a463-396338333962
X-WR-CALNAME:JCal Pro Calendar
X-WR-CALDESC:Your online events calendar
X-WR-TIMEZONE:America/Chicago
BEGIN:VTIMEZONE
TZID:America/Chicago
TZUNTIL:20271107T070000Z
BEGIN:STANDARD
TZNAME:CST
DTSTART:20251102T020000
TZOFFSETFROM:-0500
TZOFFSETTO:-0600
RDATE:20261101T020000
END:STANDARD
BEGIN:DAYLIGHT
TZNAME:CDT
DTSTART:20260308T020000
TZOFFSETFROM:-0600
TZOFFSETTO:-0500
RDATE:20270314T020000
END:DAYLIGHT
END:VTIMEZONE
BEGIN:VEVENT
UID:20201120T080000CST-5855uwAcO2@http://txmliws.rapams.com/
DTSTAMP:20260420T091752Z
CATEGORIES:Association Events
DTSTART;TZID=America/Chicago:20201023T090000
DTEND;TZID=America/Chicago:20201023T133000
SUMMARY:New Member Orientation
URL:https://fourriversrealtors.com/resources/find-an-event/20-association-e
 vents/4640-new-member-orientation
END:VEVENT
END:VCALENDAR
