BEGIN:VCALENDAR
VERSION:2.0
PRODID:-//https://fourriversrealtors.com//NONSGML kigkonsult.se iCalcreator 2.41.71//
CALSCALE:GREGORIAN
METHOD:PUBLISH
UID:65393932-6362-4961-b138-613337643266
X-WR-CALNAME:JCal Pro Calendar
X-WR-CALDESC:Your online events calendar
X-WR-TIMEZONE:America/Chicago
BEGIN:VTIMEZONE
TZID:America/Chicago
TZUNTIL:20271107T070000Z
BEGIN:STANDARD
TZNAME:CST
DTSTART:20251102T020000
TZOFFSETFROM:-0500
TZOFFSETTO:-0600
RDATE:20261101T020000
END:STANDARD
BEGIN:DAYLIGHT
TZNAME:CDT
DTSTART:20260308T020000
TZOFFSETFROM:-0600
TZOFFSETTO:-0500
RDATE:20270314T020000
END:DAYLIGHT
END:VTIMEZONE
BEGIN:VEVENT
UID:20260126T080000UTC-5936euP2Ml@https://fourriversrealtors.com/
DTSTAMP:20260420T091758Z
CATEGORIES:Holidays and/or Office Closed
DTSTART;TZID=America/Chicago:20260126T000000
DTEND;TZID=America/Chicago:20260126T235959
SUMMARY:Bad Weather - Office Closed
URL:https://fourriversrealtors.com/resources/find-an-event/42-holidays-offi
 ce-closed/11191-bad-weather-office-closed
END:VEVENT
END:VCALENDAR
